BEGIN:VCALENDAR
VERSION:2.0
CALSCALE:GREGORIAN
PRODID:-//Diputació de Barcelona//DibaCMS//EN
BEGIN:VEVENT
UID:1804
DTSTAMP:20260422T102826
DTSTART:20180623T203000
DTEND:20180624T030000
SUMMARY:Revetlla de Sant Joan a Can Massuet del Far
LOCATION:
METHOD:PUBLISH
X-WR-CALNAME:dosrius@dosrius.cat
X-WR-TIMEZONE:Europe/Madrid
DESCRIPTION:Dissabte 23 de juny, Can Massuet del Far celebrarà la segona edició de la Revetlla de Sant Joan. A partir de les 20:30 h., els veïns i veïnes podran gaudir d'un sopar popular i música fins ben entrada la matinada.

Per a més informació, podeu trucar al telèfon 93 791 80 14.

URI:https://www.dosrius.cat/actualitat/agenda/revetlla-de-sant-joan-a-can-massuet-del-far.html
CLASS:PUBLIC
END:VEVENT
END:VCALENDAR
