BEGIN:VCALENDAR
VERSION:2.0
CALSCALE:GREGORIAN
PRODID:-//Diputació de Barcelona//DibaCMS//EN
BEGIN:VEVENT
UID:1803
DTSTAMP:20260421T162250
DTSTART:20180601T143000
DTEND:20480611T000000
SUMMARY:Tens problemes amb el senyal de TDT de casa teva? 
LOCATION:
METHOD:PUBLISH
X-WR-CALNAME:dosrius@dosrius.cat
X-WR-TIMEZONE:Europe/Madrid
DESCRIPTION:Els veïns i veïnes de Dosrius amb problemes en la recepció de la senyal de TDT als seus domicilis poden sol·licitar gratuïtament la resolució de les seves afectacions trucant al telèfon 900 833 999 o a través del web www.llega800.es.

URI:https://www.dosrius.cat/actualitat/noticies/tens-problemes-amb-el-senyal-de-tdt-de-casa-teva-.html
CLASS:PUBLIC
END:VEVENT
END:VCALENDAR
