BEGIN:VCALENDAR
VERSION:2.0
CALSCALE:GREGORIAN
PRODID:-//Diputació de Barcelona//DibaCMS//EN
BEGIN:VEVENT
UID:1801
DTSTAMP:20260421T162301
DTSTART:20180531T090000
DTEND:20480506T000000
SUMMARY:Dosrius dóna la benvinguda al juny amb una marató cultural
LOCATION:
METHOD:PUBLISH
X-WR-CALNAME:dosrius@dosrius.cat
X-WR-TIMEZONE:Europe/Madrid
DESCRIPTION:L’entitat de nova creació 7 de Cultura organitzarà el dissabte 2 de juny la primera edició de la Mostra 7 de Cultura, que oferirà als veïns i veïnes 12 hores ininterrompudes d’espectacles al carrer.

URI:https://www.dosrius.cat/actualitat/noticies/dosrius-dona-la-benvinguda-al-juny-amb-una-marato-cultural.html
CLASS:PUBLIC
END:VEVENT
END:VCALENDAR
