BEGIN:VCALENDAR
VERSION:2.0
CALSCALE:GREGORIAN
PRODID:-//Diputació de Barcelona//DibaCMS//EN
BEGIN:VEVENT
UID:1799
DTSTAMP:20260422T153931
DTSTART:20180530T000000
DTEND:20190530T000000
SUMMARY:Els ajuntaments de Dosrius i Llinars del Vallès refermen el seu compromís amb la continuïtat de l’Escola de Música de Dosrius
LOCATION:
METHOD:PUBLISH
X-WR-CALNAME:dosrius@dosrius.cat
X-WR-TIMEZONE:Europe/Madrid
DESCRIPTION:Ambdós consistoris han rubricat un conveni de col·laboració per a la prestació a Dosrius d’aquest servei municipal iniciat el passat mes de febrer i que durant els primers mesos de funcionament ha tingut una alta acceptació entre la ciutadania. 

URI:https://www.dosrius.cat/actualitat/noticies/els-ajuntaments-de-dosrius-i-llinars-del-valles-refermen-el-seu-compromis-amb-la-continuitat-de-lescola-de-musica-de-dosrius.html
CLASS:PUBLIC
END:VEVENT
END:VCALENDAR
