BEGIN:VCALENDAR
VERSION:2.0
CALSCALE:GREGORIAN
PRODID:-//Diputació de Barcelona//DibaCMS//EN
BEGIN:VEVENT
UID:1796
DTSTAMP:20260421T174050
DTSTART:20180529T000000
DTEND:20480507T000000
SUMMARY:Dosrius se suma al Dia Internacional dels Arxius
LOCATION:
METHOD:PUBLISH
X-WR-CALNAME:dosrius@dosrius.cat
X-WR-TIMEZONE:Europe/Madrid
DESCRIPTION:L’Ajuntament convida els veïns i veïnes a gaudir dissabte 9 de juny d’una jornada popular per compartir experiències, records, vivències i anècdotes sobre la Germandat de Canyamars i la fàbrica ‘La Tortuga’.

URI:https://www.dosrius.cat/actualitat/noticies/dosrius-se-suma-al-dia-internacional-dels-arxius.html
CLASS:PUBLIC
END:VEVENT
END:VCALENDAR
