BEGIN:VCALENDAR
VERSION:2.0
CALSCALE:GREGORIAN
PRODID:-//Diputació de Barcelona//DibaCMS//EN
BEGIN:VEVENT
UID:1793
DTSTAMP:20260422T153733
DTSTART:20180615T180000
DTEND:20180615T210000
SUMMARY:Concert de final de curs de l'Escola de Música de Dosrius
LOCATION:
METHOD:PUBLISH
X-WR-CALNAME:dosrius@dosrius.cat
X-WR-TIMEZONE:Europe/Madrid
DESCRIPTION:Divendres 15 de juny, a partir de les 18 h., l'Escola Castell de Dosrius acollirà el concert de final de curs de l'Escola de Música de Dosrius. L'acte és obert a tota la ciutadania i hi actuaran el Cor de Minimúsics, el Cor d'Inicis i els alumnes d'instrument del centre. 

 

URI:https://www.dosrius.cat/actualitat/agenda/concert-de-final-de-curs-de-lescola-de-musica-de-dosrius.html
CLASS:PUBLIC
END:VEVENT
END:VCALENDAR
