BEGIN:VCALENDAR
VERSION:2.0
CALSCALE:GREGORIAN
PRODID:-//Diputació de Barcelona//DibaCMS//EN
BEGIN:VEVENT
UID:1792
DTSTAMP:20260421T215201
DTSTART:20180528T000000
DTEND:20480521T000000
SUMMARY:El Bibliobús Montnegre es consolida a Dosrius com a servei de referència en la promoció de la cultura
LOCATION:
METHOD:PUBLISH
X-WR-CALNAME:dosrius@dosrius.cat
X-WR-TIMEZONE:Europe/Madrid
DESCRIPTION:El 2017, els veïns i veïnes van realitzar a través d’aquest servei un total de 4.767 préstecs. Al llarg del curs passat, a més, el Bibliobús va col·laborar amb entitats i centres educatius locals en la realització de diverses activitats i projectes educatius.

URI:https://www.dosrius.cat/actualitat/noticies/el-bibliobus-montnegre-es-consolida-a-dosrius-com-a-servei-de-referencia-en-la-promocio-de-la-cultura.html
CLASS:PUBLIC
END:VEVENT
END:VCALENDAR
