BEGIN:VCALENDAR
VERSION:2.0
CALSCALE:GREGORIAN
PRODID:-//Diputació de Barcelona//DibaCMS//EN
BEGIN:VEVENT
UID:1787
DTSTAMP:20260421T162423
DTSTART:20180518T000000
DTEND:20480514T000000
SUMMARY:Obert el termini per sol·licitar les beques de menjador escolar per al curs 2018-2019
LOCATION:
METHOD:PUBLISH
X-WR-CALNAME:dosrius@dosrius.cat
X-WR-TIMEZONE:Europe/Madrid
DESCRIPTION:Les sol·licituds es podran presentar del 28 de maig al 22 de juny a l’Àrea de Serveis Socials de l’Ajuntament.

URI:https://www.dosrius.cat/actualitat/noticies/obert-el-termini-per-sollicitar-les-beques-de-menjador-escolar-per-al-curs-2018-2019.html
CLASS:PUBLIC
END:VEVENT
END:VCALENDAR
