BEGIN:VCALENDAR
VERSION:2.0
CALSCALE:GREGORIAN
PRODID:-//Diputació de Barcelona//DibaCMS//EN
BEGIN:VEVENT
UID:1781
DTSTAMP:20260421T162144
DTSTART:20180515T000000
DTEND:20480507T000000
SUMMARY:Aquest 2018, ‘Benvinguts a Pagès’ torna a Canyamars
LOCATION:
METHOD:PUBLISH
X-WR-CALNAME:dosrius@dosrius.cat
X-WR-TIMEZONE:Europe/Madrid
DESCRIPTION:Les visites a la Granja de Can Gel i al Parc del Rukimon i els allotjaments a Can Sabé són tres de les propostes per al cap de setmana del 9 i 10 de juny.

URI:https://www.dosrius.cat/actualitat/noticies/aquest-2018-benvinguts-a-pages-torna-a-canyamars.html
CLASS:PUBLIC
END:VEVENT
END:VCALENDAR
