BEGIN:VCALENDAR
VERSION:2.0
CALSCALE:GREGORIAN
PRODID:-//Diputació de Barcelona//DibaCMS//EN
BEGIN:VEVENT
UID:1764
DTSTAMP:20260421T162032
DTSTART:20180507T000000
DTEND:20480506T000000
SUMMARY:L’Ajuntament de Dosrius reclama l’alliberament dels presos polítics i el retorn dels exiliats 
LOCATION:
METHOD:PUBLISH
X-WR-CALNAME:dosrius@dosrius.cat
X-WR-TIMEZONE:Europe/Madrid
DESCRIPTION:El Ple de l’Ajuntament aprova una moció que denuncia públicament la “deriva antidemocràtica i autoritària” de l’Estat espanyol.

URI:https://www.dosrius.cat/actualitat/noticies/lajuntament-de-dosrius-reclama-lalliberament-dels-presos-politics-i-el-retorn-dels-exiliats-.html
CLASS:PUBLIC
END:VEVENT
END:VCALENDAR
