BEGIN:VCALENDAR
VERSION:2.0
CALSCALE:GREGORIAN
PRODID:-//Diputació de Barcelona//DibaCMS//EN
BEGIN:VEVENT
UID:1763
DTSTAMP:20260421T162326
DTSTART:20180504T000000
DTEND:20480506T000000
SUMMARY:Queda aprovat el calendari de festes locals per a l’any 2019
LOCATION:
METHOD:PUBLISH
X-WR-CALNAME:dosrius@dosrius.cat
X-WR-TIMEZONE:Europe/Madrid
DESCRIPTION:Seran festius propis el dilluns 10 de juny i el divendres 30 d’agost. A aquestes dates s’hi han de sumar les festes nacionals aprovades per la Generalitat de Catalunya.

URI:https://www.dosrius.cat/actualitat/noticies/queda-aprovat-el-calendari-de-festes-locals-per-a-lany-2019.html
CLASS:PUBLIC
END:VEVENT
END:VCALENDAR
