BEGIN:VCALENDAR
VERSION:2.0
CALSCALE:GREGORIAN
PRODID:-//Diputació de Barcelona//DibaCMS//EN
BEGIN:VEVENT
UID:1760
DTSTAMP:20260421T200626
DTSTART:20180502T000000
DTEND:20480501T000000
SUMMARY:La Diputació destina a l'Ajuntament de Dosrius més de 100.000€ del Catàleg de Serveis de 2018 i el Pla de Millora d'Equipaments
LOCATION:
METHOD:PUBLISH
X-WR-CALNAME:dosrius@dosrius.cat
X-WR-TIMEZONE:Europe/Madrid
DESCRIPTION:Les ajudes concedides permetran desplegar un total de 14 actuacions, entre les quals destaquen: la restauració del Pou de Glaç de Can Canyamars; la implementació de tres pilones hidràuliques al nucli de Dosrius; la promoció de la Fira del Bosc-Canyamars Medieval i l’Ecofira; actuacions en matèria de sanitat ambiental; o el desenvolupament i l’aplicació de polítiques transversals en matèria de gènere i igualtat d’oportunitats.

URI:https://www.dosrius.cat/actualitat/noticies/la-diputacio-destina-a-lajuntament-de-dosrius-mes-de-100000eur-del-cataleg-de-serveis-de-2018-i-el-pla-de-millora-dequipaments.html
CLASS:PUBLIC
END:VEVENT
END:VCALENDAR
