BEGIN:VCALENDAR
VERSION:2.0
CALSCALE:GREGORIAN
PRODID:-//Diputació de Barcelona//DibaCMS//EN
BEGIN:VEVENT
UID:1365
DTSTAMP:20260422T124257
DTSTART:20161227T000000
DTEND:20170731T000000
SUMMARY:L’Ajuntament de Dosrius edita un calendari de 2017
LOCATION:
METHOD:PUBLISH
X-WR-CALNAME:dosrius@dosrius.cat
X-WR-TIMEZONE:Europe/Madrid
DESCRIPTION:Disponible a l'Oficina d'Atenció al Ciutadà de l'ajuntament, és gratuït.

URI:https://www.dosrius.cat/actualitat/noticies/lajuntament-de-dosrius-edita-un-calendari-de-2017.html
CLASS:PUBLIC
END:VEVENT
END:VCALENDAR
