BEGIN:VCALENDAR
VERSION:2.0
CALSCALE:GREGORIAN
PRODID:-//Diputació de Barcelona//DibaCMS//EN
BEGIN:VEVENT
UID:1326
DTSTAMP:20260422T112752
DTSTART:20170116T000000
DTEND:20180627T000000
SUMMARY:Montserrat Jubany (ERC) presenta la renúncia al càrrec de regidora
LOCATION:
METHOD:PUBLISH
X-WR-CALNAME:dosrius@dosrius.cat
X-WR-TIMEZONE:Europe/Madrid
DESCRIPTION:Estava al capdavant de Promoció Econòmica des del mes de juny de 2015 i deixa l’acta de regidora per motius personals.

URI:https://www.dosrius.cat/actualitat/noticies/montserrat-jubany-erc-presenta-la-renuncia-al-carrec-de-regidora.html
CLASS:PUBLIC
END:VEVENT
END:VCALENDAR
