BEGIN:VCALENDAR
VERSION:2.0
CALSCALE:GREGORIAN
PRODID:-//Diputació de Barcelona//DibaCMS//EN
BEGIN:VEVENT
UID:1321
DTSTAMP:20260422T112541
DTSTART:20170124T000000
DTEND:20180627T000000
SUMMARY:"No et quedis a casa! Vine a... Els Localets", noves activitats dels casals
LOCATION:
METHOD:PUBLISH
X-WR-CALNAME:dosrius@dosrius.cat
X-WR-TIMEZONE:Europe/Madrid
DESCRIPTION:La regidoria de Serveis Socials publica les activitats previstes als casals durant primer trimestre de 2017.

URI:https://www.dosrius.cat/actualitat/noticies/no-et-quedis-a-casa-vine-a-els-localets-noves-activitats-dels-casals.html
CLASS:PUBLIC
END:VEVENT
END:VCALENDAR
